BEGIN:VCALENDAR
VERSION:2.0
PRODID:-//Library Market//iCal Export//EN
BEGIN:VEVENT
SUMMARY:Published Authors Group Exchange
UID:131011
DTSTAMP:20260424T184800Z
DTSTART:20260520T180000Z
DTEND:20260520T200000Z
LOCATION:Main Library, 834 Lake St., Oak Park, IL 60301, United States
ROOM: Conference Room
DESCRIPTION:Published Authors Group Exchange
URL:https://oakpark.librarycalendar.com/event/published-authors-group-exch
 ange-131011
END:VEVENT
END:VCALENDAR
