BEGIN:VCALENDAR
VERSION:2.0
PRODID:-//Library Market//iCal Export//EN
BEGIN:VEVENT
SUMMARY:TIFFANY WRIGHT
UID:130920
DTSTAMP:20260424T184800Z
DTSTART:20260421T184500Z
DTEND:20260421T193000Z
LOCATION:Main Library, 834 Lake St., Oak Park, IL 60301, United States
ROOM: Conference Room
DESCRIPTION:coming at 12:30p
URL:https://oakpark.librarycalendar.com/event/tiffany-wright-130920
END:VEVENT
END:VCALENDAR
