BEGIN:VCALENDAR
VERSION:2.0
PRODID:-//Library Market//iCal Export//EN
BEGIN:VEVENT
SUMMARY:Copy of Piano
UID:130914
DTSTAMP:20260423T200800Z
DTSTART:20260420T190000Z
DTEND:20260420T200000Z
LOCATION:Main Library, 834 Lake St., Oak Park, IL 60301, United States
ROOM: Veterans Room
DESCRIPTION:
URL:https://oakpark.librarycalendar.com/event/copy-piano-130914
END:VEVENT
END:VCALENDAR
