BEGIN:VCALENDAR
VERSION:2.0
PRODID:-//Library Market//iCal Export//EN
BEGIN:VEVENT
SUMMARY:Meeting
UID:130899
DTSTAMP:20260424T220800Z
DTSTART:20260420T170000Z
DTEND:20260420T210000Z
LOCATION:845 Gunderson Ave., Oak Park, IL 60304, United States
ROOM: Maze Branch Meeting Room
DESCRIPTION:
URL:https://oakpark.librarycalendar.com/event/meeting-130899
END:VEVENT
END:VCALENDAR
