BEGIN:VCALENDAR
VERSION:2.0
PRODID:-//Library Market//iCal Export//EN
BEGIN:VEVENT
SUMMARY:Audio Booth Reservation
UID:130873
DTSTAMP:20260423T200800Z
DTSTART:20260424T140000Z
DTEND:20260424T160000Z
LOCATION:Main Library, 834 Lake St., Oak Park, IL 60301, United States
ROOM: Audio Booth
DESCRIPTION:
URL:https://oakpark.librarycalendar.com/event/audio-booth-reservation-1308
 73
END:VEVENT
END:VCALENDAR
