BEGIN:VCALENDAR
VERSION:2.0
PRODID:-//Library Market//iCal Export//EN
BEGIN:VEVENT
SUMMARY:NVC Communications
UID:130785
DTSTAMP:20260424T184800Z
DTSTART:20260522T200000Z
DTEND:20260522T223000Z
LOCATION:Main Library, 834 Lake St., Oak Park, IL 60301, United States
ROOM: Conference Room
DESCRIPTION:The group reads and discusses books on  Non-Violent Communicat
 ions (developed by Marshall Rosenberg) by different authors
URL:https://oakpark.librarycalendar.com/event/nvc-communications-130785
END:VEVENT
END:VCALENDAR
