BEGIN:VCALENDAR
VERSION:2.0
PRODID:-//Library Market//iCal Export//EN
BEGIN:VEVENT
SUMMARY:Students Feeding Students
UID:130735
DTSTAMP:20260421T104700Z
DTSTART:20260419T200000Z
DTEND:20260419T213000Z
LOCATION:Main Library, 834 Lake St., Oak Park, IL 60301, United States
ROOM: Conference Room
DESCRIPTION:Strategizing for snack cabinets.
URL:https://oakpark.librarycalendar.com/event/students-feeding-students-13
 0735
END:VEVENT
END:VCALENDAR
