BEGIN:VCALENDAR
VERSION:2.0
PRODID:-//Library Market//iCal Export//EN
BEGIN:VEVENT
SUMMARY:Libraries Through the Ages
UID:130722
DTSTAMP:20260419T155800Z
DTSTART:20260423T203000Z
DTEND:20260423T210000Z
LOCATION:Main Library, 834 Lake St., Oak Park, IL 60301, United States
ROOM: Lobby Community Space
DESCRIPTION:
URL:https://oakpark.librarycalendar.com/event/libraries-through-ages-13072
 2
END:VEVENT
END:VCALENDAR
