BEGIN:VCALENDAR
VERSION:2.0
PRODID:-//Library Market//iCal Export//EN
BEGIN:VEVENT
SUMMARY:Meeting
UID:130602
DTSTAMP:20260419T184000Z
DTSTART:20260416T151500Z
DTEND:20260416T161500Z
LOCATION:845 Gunderson Ave., Oak Park, IL 60304, United States
ROOM: Maze Branch Meeting Room
DESCRIPTION:
URL:https://oakpark.librarycalendar.com/event/meeting-130602
END:VEVENT
END:VCALENDAR
