BEGIN:VCALENDAR
VERSION:2.0
PRODID:-//Library Market//iCal Export//EN
BEGIN:VEVENT
SUMMARY:Community Reflections
UID:130519
DTSTAMP:20260425T115400Z
DTSTART:20260502T143000Z
DTEND:20260502T153000Z
LOCATION:Main Library, 834 Lake St., Oak Park, IL 60301, United States
ROOM: Lobby Community Space
DESCRIPTION:Reflection on how to create a better community.
URL:https://oakpark.librarycalendar.com/event/community-reflections-130519
END:VEVENT
END:VCALENDAR
