BEGIN:VCALENDAR
VERSION:2.0
PRODID:-//Library Market//iCal Export//EN
BEGIN:VEVENT
SUMMARY:Community Reflections
UID:130516
DTSTAMP:20260421T104700Z
DTSTART:20260425T143000Z
DTEND:20260425T154500Z
LOCATION:Main Library, 834 Lake St., Oak Park, IL 60301, United States
ROOM: Lobby Community Space
DESCRIPTION:Reflection on how to make a better community.
URL:https://oakpark.librarycalendar.com/event/community-reflections-130516
END:VEVENT
END:VCALENDAR
