BEGIN:VCALENDAR
VERSION:2.0
PRODID:-//Library Market//iCal Export//EN
BEGIN:VEVENT
SUMMARY:Community Reflection
UID:130512
DTSTAMP:20260419T155800Z
DTSTART:20260423T230000Z
DTEND:20260424T010000Z
LOCATION:Main Library, 834 Lake St., Oak Park, IL 60301, United States
ROOM: Lobby Community Space
DESCRIPTION:Reflection on the election and how to move forward
URL:https://oakpark.librarycalendar.com/event/community-reflection-130512
END:VEVENT
END:VCALENDAR
