BEGIN:VCALENDAR
VERSION:2.0
PRODID:-//Library Market//iCal Export//EN
BEGIN:VEVENT
SUMMARY:Meeting
UID:130478
DTSTAMP:20260420T015600Z
DTSTART:20260415T160000Z
DTEND:20260415T180000Z
LOCATION:Main Library, 834 Lake St., Oak Park, IL 60301, United States
ROOM: Conference Room
DESCRIPTION:
URL:https://oakpark.librarycalendar.com/event/meeting-130478
END:VEVENT
END:VCALENDAR
