BEGIN:VCALENDAR
VERSION:2.0
PRODID:-//Library Market//iCal Export//EN
BEGIN:VEVENT
SUMMARY:Young &amp; Restless
UID:130404
DTSTAMP:20260421T165900Z
DTSTART:20260822T160000Z
DTEND:20260822T163000Z
LOCATION:Main Library, 834 Lake St., Oak Park, IL 60301, United States
ROOM: Storytime Room
DESCRIPTION:#babytoddler
URL:https://oakpark.librarycalendar.com/event/young-restless-130404
END:VEVENT
END:VCALENDAR
