BEGIN:VCALENDAR
VERSION:2.0
PRODID:-//Library Market//iCal Export//EN
BEGIN:VEVENT
SUMMARY:Audio Booth Reservation
UID:130188
DTSTAMP:20260421T104700Z
DTSTART:20260422T143000Z
DTEND:20260422T173000Z
LOCATION:Main Library, 834 Lake St., Oak Park, IL 60301, United States
ROOM: Audio Booth
DESCRIPTION:
URL:https://oakpark.librarycalendar.com/event/audio-booth-reservation-1301
 88
END:VEVENT
END:VCALENDAR
