BEGIN:VCALENDAR
VERSION:2.0
PRODID:-//Library Market//iCal Export//EN
BEGIN:VEVENT
SUMMARY:Jack &amp; Jill WCCC
UID:130112
DTSTAMP:20260424T184800Z
DTSTART:20260428T230000Z
DTEND:20260429T010000Z
LOCATION:255 Augusta St., Oak Park, IL 60302, United States
ROOM: Dole Branch Meeting Room
DESCRIPTION:Mother/Teen meeting to develop a skit
URL:https://oakpark.librarycalendar.com/event/jack-jill-wccc-130112
END:VEVENT
END:VCALENDAR
