BEGIN:VCALENDAR
VERSION:2.0
PRODID:-//Library Market//iCal Export//EN
BEGIN:VEVENT
SUMMARY:Artists Support Group
UID:129971
DTSTAMP:20260425T115400Z
DTSTART:20260428T143000Z
DTEND:20260428T163000Z
LOCATION:Main Library, 834 Lake St., Oak Park, IL 60301, United States
ROOM: Conference Room
DESCRIPTION:Monthly meeting of local female identifying artists to gain in
 spiration and share resources.
URL:https://oakpark.librarycalendar.com/event/artists-support-group-129971
END:VEVENT
END:VCALENDAR
