BEGIN:VCALENDAR
VERSION:2.0
PRODID:-//Library Market//iCal Export//EN
BEGIN:VEVENT
SUMMARY:Tech Night: Let&#039;s Make Buttons!
UID:127348
DTSTAMP:20260425T115400Z
DTSTART:20260511T210000Z
DTEND:20260511T220000Z
LOCATION:Main Library, 834 Lake St., Oak Park, IL 60301, United States
ROOM: Creative Studio
DESCRIPTION:This month we&#039;ll learn how to make our own buttons using 
 image editing software and the button maker! This program will take place 
 in the Creative Studio on the 3rd floor.For 3-5th grade
URL:https://oakpark.librarycalendar.com/event/lets-make-buttons-127348
END:VEVENT
END:VCALENDAR
